BEGIN:VCALENDAR
VERSION:2.0
PRODID:-//KURZ Entsorgung//Gelber Sack - Stuttgart 1.0//EN
CALSCALE:GREGORIAN
METHOD:PUBLISH
BEGIN:VEVENT
UID:5959-69eb97bcc7135@gelbersack-stuttgart.de
DTSTAMP:20260424T161804Z
DTSTART;VALUE=DATE:20230103
SUMMARY:Gelber Sack
TRANSP:OPAQUE
STATUS:CONFIRMED
END:VEVENT
BEGIN:VEVENT
UID:5960-69eb97bcc7145@gelbersack-stuttgart.de
DTSTAMP:20260424T161804Z
DTSTART;VALUE=DATE:20230124
SUMMARY:Gelber Sack
TRANSP:OPAQUE
STATUS:CONFIRMED
END:VEVENT
BEGIN:VEVENT
UID:5961-69eb97bcc7148@gelbersack-stuttgart.de
DTSTAMP:20260424T161804Z
DTSTART;VALUE=DATE:20230214
SUMMARY:Gelber Sack
TRANSP:OPAQUE
STATUS:CONFIRMED
END:VEVENT
BEGIN:VEVENT
UID:5962-69eb97bcc714a@gelbersack-stuttgart.de
DTSTAMP:20260424T161804Z
DTSTART;VALUE=DATE:20230307
SUMMARY:Gelber Sack
TRANSP:OPAQUE
STATUS:CONFIRMED
END:VEVENT
BEGIN:VEVENT
UID:5963-69eb97bcc714c@gelbersack-stuttgart.de
DTSTAMP:20260424T161804Z
DTSTART;VALUE=DATE:20230328
SUMMARY:Gelber Sack
TRANSP:OPAQUE
STATUS:CONFIRMED
END:VEVENT
BEGIN:VEVENT
UID:5964-69eb97bcc714d@gelbersack-stuttgart.de
DTSTAMP:20260424T161804Z
DTSTART;VALUE=DATE:20230418
SUMMARY:Gelber Sack
TRANSP:OPAQUE
STATUS:CONFIRMED
END:VEVENT
BEGIN:VEVENT
UID:5965-69eb97bcc714f@gelbersack-stuttgart.de
DTSTAMP:20260424T161804Z
DTSTART;VALUE=DATE:20230509
SUMMARY:Gelber Sack
TRANSP:OPAQUE
STATUS:CONFIRMED
END:VEVENT
BEGIN:VEVENT
UID:5966-69eb97bcc7151@gelbersack-stuttgart.de
DTSTAMP:20260424T161804Z
DTSTART;VALUE=DATE:20230531
SUMMARY:Gelber Sack
TRANSP:OPAQUE
STATUS:CONFIRMED
END:VEVENT
BEGIN:VEVENT
UID:5967-69eb97bcc7152@gelbersack-stuttgart.de
DTSTAMP:20260424T161804Z
DTSTART;VALUE=DATE:20230620
SUMMARY:Gelber Sack
TRANSP:OPAQUE
STATUS:CONFIRMED
END:VEVENT
BEGIN:VEVENT
UID:5968-69eb97bcc7154@gelbersack-stuttgart.de
DTSTAMP:20260424T161804Z
DTSTART;VALUE=DATE:20230711
SUMMARY:Gelber Sack
TRANSP:OPAQUE
STATUS:CONFIRMED
END:VEVENT
BEGIN:VEVENT
UID:5969-69eb97bcc7156@gelbersack-stuttgart.de
DTSTAMP:20260424T161804Z
DTSTART;VALUE=DATE:20230801
SUMMARY:Gelber Sack
TRANSP:OPAQUE
STATUS:CONFIRMED
END:VEVENT
BEGIN:VEVENT
UID:5970-69eb97bcc7158@gelbersack-stuttgart.de
DTSTAMP:20260424T161804Z
DTSTART;VALUE=DATE:20230822
SUMMARY:Gelber Sack
TRANSP:OPAQUE
STATUS:CONFIRMED
END:VEVENT
BEGIN:VEVENT
UID:5971-69eb97bcc7159@gelbersack-stuttgart.de
DTSTAMP:20260424T161804Z
DTSTART;VALUE=DATE:20230912
SUMMARY:Gelber Sack
TRANSP:OPAQUE
STATUS:CONFIRMED
END:VEVENT
BEGIN:VEVENT
UID:5972-69eb97bcc715b@gelbersack-stuttgart.de
DTSTAMP:20260424T161804Z
DTSTART;VALUE=DATE:20231004
SUMMARY:Gelber Sack
TRANSP:OPAQUE
STATUS:CONFIRMED
END:VEVENT
BEGIN:VEVENT
UID:5973-69eb97bcc7161@gelbersack-stuttgart.de
DTSTAMP:20260424T161804Z
DTSTART;VALUE=DATE:20231024
SUMMARY:Gelber Sack
TRANSP:OPAQUE
STATUS:CONFIRMED
END:VEVENT
BEGIN:VEVENT
UID:5974-69eb97bcc7163@gelbersack-stuttgart.de
DTSTAMP:20260424T161804Z
DTSTART;VALUE=DATE:20231114
SUMMARY:Gelber Sack
TRANSP:OPAQUE
STATUS:CONFIRMED
END:VEVENT
BEGIN:VEVENT
UID:5975-69eb97bcc7164@gelbersack-stuttgart.de
DTSTAMP:20260424T161804Z
DTSTART;VALUE=DATE:20231205
SUMMARY:Gelber Sack
TRANSP:OPAQUE
STATUS:CONFIRMED
END:VEVENT
BEGIN:VEVENT
UID:5976-69eb97bcc7168@gelbersack-stuttgart.de
DTSTAMP:20260424T161804Z
DTSTART;VALUE=DATE:20231227
SUMMARY:Gelber Sack
TRANSP:OPAQUE
STATUS:CONFIRMED
END:VEVENT
BEGIN:VEVENT
UID:5977-69eb97bcc7169@gelbersack-stuttgart.de
DTSTAMP:20260424T161804Z
DTSTART;VALUE=DATE:20240116
SUMMARY:Gelber Sack
TRANSP:OPAQUE
STATUS:CONFIRMED
END:VEVENT
BEGIN:VEVENT
UID:13533-69eb97bcc716b@gelbersack-stuttgart.de
DTSTAMP:20260424T161804Z
DTSTART;VALUE=DATE:20240206
SUMMARY:Gelber Sack
TRANSP:OPAQUE
STATUS:CONFIRMED
END:VEVENT
BEGIN:VEVENT
UID:13534-69eb97bcc716d@gelbersack-stuttgart.de
DTSTAMP:20260424T161804Z
DTSTART;VALUE=DATE:20240227
SUMMARY:Gelber Sack
TRANSP:OPAQUE
STATUS:CONFIRMED
END:VEVENT
BEGIN:VEVENT
UID:13535-69eb97bcc716e@gelbersack-stuttgart.de
DTSTAMP:20260424T161804Z
DTSTART;VALUE=DATE:20240319
SUMMARY:Gelber Sack
TRANSP:OPAQUE
STATUS:CONFIRMED
END:VEVENT
BEGIN:VEVENT
UID:13536-69eb97bcc7170@gelbersack-stuttgart.de
DTSTAMP:20260424T161804Z
DTSTART;VALUE=DATE:20240409
SUMMARY:Gelber Sack
TRANSP:OPAQUE
STATUS:CONFIRMED
END:VEVENT
BEGIN:VEVENT
UID:13537-69eb97bcc7173@gelbersack-stuttgart.de
DTSTAMP:20260424T161804Z
DTSTART;VALUE=DATE:20240430
SUMMARY:Gelber Sack
TRANSP:OPAQUE
STATUS:CONFIRMED
END:VEVENT
BEGIN:VEVENT
UID:13538-69eb97bcc7174@gelbersack-stuttgart.de
DTSTAMP:20260424T161804Z
DTSTART;VALUE=DATE:20240522
SUMMARY:Gelber Sack
TRANSP:OPAQUE
STATUS:CONFIRMED
END:VEVENT
BEGIN:VEVENT
UID:13539-69eb97bcc7176@gelbersack-stuttgart.de
DTSTAMP:20260424T161804Z
DTSTART;VALUE=DATE:20240611
SUMMARY:Gelber Sack
TRANSP:OPAQUE
STATUS:CONFIRMED
END:VEVENT
BEGIN:VEVENT
UID:13540-69eb97bcc7177@gelbersack-stuttgart.de
DTSTAMP:20260424T161804Z
DTSTART;VALUE=DATE:20240702
SUMMARY:Gelber Sack
TRANSP:OPAQUE
STATUS:CONFIRMED
END:VEVENT
BEGIN:VEVENT
UID:13541-69eb97bcc7179@gelbersack-stuttgart.de
DTSTAMP:20260424T161804Z
DTSTART;VALUE=DATE:20240723
SUMMARY:Gelber Sack
TRANSP:OPAQUE
STATUS:CONFIRMED
END:VEVENT
BEGIN:VEVENT
UID:13542-69eb97bcc717a@gelbersack-stuttgart.de
DTSTAMP:20260424T161804Z
DTSTART;VALUE=DATE:20240813
SUMMARY:Gelber Sack
TRANSP:OPAQUE
STATUS:CONFIRMED
END:VEVENT
BEGIN:VEVENT
UID:13543-69eb97bcc717c@gelbersack-stuttgart.de
DTSTAMP:20260424T161804Z
DTSTART;VALUE=DATE:20240903
SUMMARY:Gelber Sack
TRANSP:OPAQUE
STATUS:CONFIRMED
END:VEVENT
BEGIN:VEVENT
UID:13544-69eb97bcc717d@gelbersack-stuttgart.de
DTSTAMP:20260424T161804Z
DTSTART;VALUE=DATE:20240924
SUMMARY:Gelber Sack
TRANSP:OPAQUE
STATUS:CONFIRMED
END:VEVENT
BEGIN:VEVENT
UID:13545-69eb97bcc717f@gelbersack-stuttgart.de
DTSTAMP:20260424T161804Z
DTSTART;VALUE=DATE:20241015
SUMMARY:Gelber Sack
TRANSP:OPAQUE
STATUS:CONFIRMED
END:VEVENT
BEGIN:VEVENT
UID:13546-69eb97bcc7180@gelbersack-stuttgart.de
DTSTAMP:20260424T161804Z
DTSTART;VALUE=DATE:20241105
SUMMARY:Gelber Sack
TRANSP:OPAQUE
STATUS:CONFIRMED
END:VEVENT
BEGIN:VEVENT
UID:13547-69eb97bcc7183@gelbersack-stuttgart.de
DTSTAMP:20260424T161804Z
DTSTART;VALUE=DATE:20241126
SUMMARY:Gelber Sack
TRANSP:OPAQUE
STATUS:CONFIRMED
END:VEVENT
BEGIN:VEVENT
UID:13548-69eb97bcc7185@gelbersack-stuttgart.de
DTSTAMP:20260424T161804Z
DTSTART;VALUE=DATE:20241217
SUMMARY:Gelber Sack
TRANSP:OPAQUE
STATUS:CONFIRMED
END:VEVENT
BEGIN:VEVENT
UID:13549-69eb97bcc7187@gelbersack-stuttgart.de
DTSTAMP:20260424T161804Z
DTSTART;VALUE=DATE:20250109
SUMMARY:Gelber Sack
TRANSP:OPAQUE
STATUS:CONFIRMED
END:VEVENT
BEGIN:VEVENT
UID:13550-69eb97bcc718a@gelbersack-stuttgart.de
DTSTAMP:20260424T161804Z
DTSTART;VALUE=DATE:20250128
SUMMARY:Gelber Sack
TRANSP:OPAQUE
STATUS:CONFIRMED
END:VEVENT
BEGIN:VEVENT
UID:16163-69eb97bcc718c@gelbersack-stuttgart.de
DTSTAMP:20260424T161804Z
DTSTART;VALUE=DATE:20250218
SUMMARY:Gelber Sack
TRANSP:OPAQUE
STATUS:CONFIRMED
END:VEVENT
BEGIN:VEVENT
UID:16164-69eb97bcc718d@gelbersack-stuttgart.de
DTSTAMP:20260424T161804Z
DTSTART;VALUE=DATE:20250311
SUMMARY:Gelber Sack
TRANSP:OPAQUE
STATUS:CONFIRMED
END:VEVENT
BEGIN:VEVENT
UID:16165-69eb97bcc718f@gelbersack-stuttgart.de
DTSTAMP:20260424T161804Z
DTSTART;VALUE=DATE:20250401
SUMMARY:Gelber Sack
TRANSP:OPAQUE
STATUS:CONFIRMED
END:VEVENT
BEGIN:VEVENT
UID:16166-69eb97bcc7192@gelbersack-stuttgart.de
DTSTAMP:20260424T161804Z
DTSTART;VALUE=DATE:20250423
SUMMARY:Gelber Sack
TRANSP:OPAQUE
STATUS:CONFIRMED
END:VEVENT
BEGIN:VEVENT
UID:16167-69eb97bcc7194@gelbersack-stuttgart.de
DTSTAMP:20260424T161804Z
DTSTART;VALUE=DATE:20250513
SUMMARY:Gelber Sack
TRANSP:OPAQUE
STATUS:CONFIRMED
END:VEVENT
BEGIN:VEVENT
UID:16168-69eb97bcc7196@gelbersack-stuttgart.de
DTSTAMP:20260424T161804Z
DTSTART;VALUE=DATE:20250603
SUMMARY:Gelber Sack
TRANSP:OPAQUE
STATUS:CONFIRMED
END:VEVENT
BEGIN:VEVENT
UID:16169-69eb97bcc7198@gelbersack-stuttgart.de
DTSTAMP:20260424T161804Z
DTSTART;VALUE=DATE:20250624
SUMMARY:Gelber Sack
TRANSP:OPAQUE
STATUS:CONFIRMED
END:VEVENT
BEGIN:VEVENT
UID:16170-69eb97bcc719b@gelbersack-stuttgart.de
DTSTAMP:20260424T161804Z
DTSTART;VALUE=DATE:20250715
SUMMARY:Gelber Sack
TRANSP:OPAQUE
STATUS:CONFIRMED
END:VEVENT
BEGIN:VEVENT
UID:16171-69eb97bcc719d@gelbersack-stuttgart.de
DTSTAMP:20260424T161804Z
DTSTART;VALUE=DATE:20250805
SUMMARY:Gelber Sack
TRANSP:OPAQUE
STATUS:CONFIRMED
END:VEVENT
BEGIN:VEVENT
UID:16172-69eb97bcc71a1@gelbersack-stuttgart.de
DTSTAMP:20260424T161804Z
DTSTART;VALUE=DATE:20250826
SUMMARY:Gelber Sack
TRANSP:OPAQUE
STATUS:CONFIRMED
END:VEVENT
BEGIN:VEVENT
UID:16173-69eb97bcc71a3@gelbersack-stuttgart.de
DTSTAMP:20260424T161804Z
DTSTART;VALUE=DATE:20250916
SUMMARY:Gelber Sack
TRANSP:OPAQUE
STATUS:CONFIRMED
END:VEVENT
BEGIN:VEVENT
UID:16174-69eb97bcc71a6@gelbersack-stuttgart.de
DTSTAMP:20260424T161804Z
DTSTART;VALUE=DATE:20251007
SUMMARY:Gelber Sack
TRANSP:OPAQUE
STATUS:CONFIRMED
END:VEVENT
BEGIN:VEVENT
UID:16175-69eb97bcc71a8@gelbersack-stuttgart.de
DTSTAMP:20260424T161804Z
DTSTART;VALUE=DATE:20251028
SUMMARY:Gelber Sack
TRANSP:OPAQUE
STATUS:CONFIRMED
END:VEVENT
BEGIN:VEVENT
UID:16176-69eb97bcc71aa@gelbersack-stuttgart.de
DTSTAMP:20260424T161804Z
DTSTART;VALUE=DATE:20251118
SUMMARY:Gelber Sack
TRANSP:OPAQUE
STATUS:CONFIRMED
END:VEVENT
BEGIN:VEVENT
UID:16177-69eb97bcc71ac@gelbersack-stuttgart.de
DTSTAMP:20260424T161804Z
DTSTART;VALUE=DATE:20251209
SUMMARY:Gelber Sack
TRANSP:OPAQUE
STATUS:CONFIRMED
END:VEVENT
BEGIN:VEVENT
UID:16178-69eb97bcc71af@gelbersack-stuttgart.de
DTSTAMP:20260424T161804Z
DTSTART;VALUE=DATE:20251230
SUMMARY:Gelber Sack
TRANSP:OPAQUE
STATUS:CONFIRMED
END:VEVENT
BEGIN:VEVENT
UID:16179-69eb97bcc71b1@gelbersack-stuttgart.de
DTSTAMP:20260424T161804Z
DTSTART;VALUE=DATE:20260120
SUMMARY:Gelber Sack
TRANSP:OPAQUE
STATUS:CONFIRMED
END:VEVENT
BEGIN:VEVENT
UID:18836-69eb97bcc71b2@gelbersack-stuttgart.de
DTSTAMP:20260424T161804Z
DTSTART;VALUE=DATE:20260210
SUMMARY:Gelber Sack
TRANSP:OPAQUE
STATUS:CONFIRMED
END:VEVENT
BEGIN:VEVENT
UID:18837-69eb97bcc71b5@gelbersack-stuttgart.de
DTSTAMP:20260424T161804Z
DTSTART;VALUE=DATE:20260303
SUMMARY:Gelber Sack
TRANSP:OPAQUE
STATUS:CONFIRMED
END:VEVENT
BEGIN:VEVENT
UID:18838-69eb97bcc71b7@gelbersack-stuttgart.de
DTSTAMP:20260424T161804Z
DTSTART;VALUE=DATE:20260324
SUMMARY:Gelber Sack
TRANSP:OPAQUE
STATUS:CONFIRMED
END:VEVENT
BEGIN:VEVENT
UID:18839-69eb97bcc71b9@gelbersack-stuttgart.de
DTSTAMP:20260424T161804Z
DTSTART;VALUE=DATE:20260415
SUMMARY:Gelber Sack
TRANSP:OPAQUE
STATUS:CONFIRMED
END:VEVENT
BEGIN:VEVENT
UID:18840-69eb97bcc71bc@gelbersack-stuttgart.de
DTSTAMP:20260424T161804Z
DTSTART;VALUE=DATE:20260506
SUMMARY:Gelber Sack
TRANSP:OPAQUE
STATUS:CONFIRMED
END:VEVENT
BEGIN:VEVENT
UID:18841-69eb97bcc71be@gelbersack-stuttgart.de
DTSTAMP:20260424T161804Z
DTSTART;VALUE=DATE:20260527
SUMMARY:Gelber Sack
TRANSP:OPAQUE
STATUS:CONFIRMED
END:VEVENT
BEGIN:VEVENT
UID:18842-69eb97bcc71c0@gelbersack-stuttgart.de
DTSTAMP:20260424T161804Z
DTSTART;VALUE=DATE:20260616
SUMMARY:Gelber Sack
TRANSP:OPAQUE
STATUS:CONFIRMED
END:VEVENT
BEGIN:VEVENT
UID:18843-69eb97bcc71c2@gelbersack-stuttgart.de
DTSTAMP:20260424T161804Z
DTSTART;VALUE=DATE:20260707
SUMMARY:Gelber Sack
TRANSP:OPAQUE
STATUS:CONFIRMED
END:VEVENT
BEGIN:VEVENT
UID:18844-69eb97bcc71c4@gelbersack-stuttgart.de
DTSTAMP:20260424T161804Z
DTSTART;VALUE=DATE:20260728
SUMMARY:Gelber Sack
TRANSP:OPAQUE
STATUS:CONFIRMED
END:VEVENT
BEGIN:VEVENT
UID:18845-69eb97bcc71c7@gelbersack-stuttgart.de
DTSTAMP:20260424T161804Z
DTSTART;VALUE=DATE:20260818
SUMMARY:Gelber Sack
TRANSP:OPAQUE
STATUS:CONFIRMED
END:VEVENT
BEGIN:VEVENT
UID:18846-69eb97bcc71c8@gelbersack-stuttgart.de
DTSTAMP:20260424T161804Z
DTSTART;VALUE=DATE:20260908
SUMMARY:Gelber Sack
TRANSP:OPAQUE
STATUS:CONFIRMED
END:VEVENT
BEGIN:VEVENT
UID:18847-69eb97bcc71cb@gelbersack-stuttgart.de
DTSTAMP:20260424T161804Z
DTSTART;VALUE=DATE:20260929
SUMMARY:Gelber Sack
TRANSP:OPAQUE
STATUS:CONFIRMED
END:VEVENT
BEGIN:VEVENT
UID:18848-69eb97bcc71cd@gelbersack-stuttgart.de
DTSTAMP:20260424T161804Z
DTSTART;VALUE=DATE:20261020
SUMMARY:Gelber Sack
TRANSP:OPAQUE
STATUS:CONFIRMED
END:VEVENT
BEGIN:VEVENT
UID:18849-69eb97bcc71cf@gelbersack-stuttgart.de
DTSTAMP:20260424T161804Z
DTSTART;VALUE=DATE:20261110
SUMMARY:Gelber Sack
TRANSP:OPAQUE
STATUS:CONFIRMED
END:VEVENT
BEGIN:VEVENT
UID:18850-69eb97bcc71d2@gelbersack-stuttgart.de
DTSTAMP:20260424T161804Z
DTSTART;VALUE=DATE:20261201
SUMMARY:Gelber Sack
TRANSP:OPAQUE
STATUS:CONFIRMED
END:VEVENT
BEGIN:VEVENT
UID:18851-69eb97bcc71d4@gelbersack-stuttgart.de
DTSTAMP:20260424T161804Z
DTSTART;VALUE=DATE:20261222
SUMMARY:Gelber Sack
TRANSP:OPAQUE
STATUS:CONFIRMED
END:VEVENT
BEGIN:VEVENT
UID:18852-69eb97bcc71d8@gelbersack-stuttgart.de
DTSTAMP:20260424T161804Z
DTSTART;VALUE=DATE:20270113
SUMMARY:Gelber Sack
TRANSP:OPAQUE
STATUS:CONFIRMED
END:VEVENT
END:VCALENDAR