BEGIN:VCALENDAR
VERSION:2.0
PRODID:-//KURZ Entsorgung//Gelber Sack - Stuttgart 1.0//EN
CALSCALE:GREGORIAN
METHOD:PUBLISH
BEGIN:VEVENT
UID:5674-69e7a18d37d10@gelbersack-stuttgart.de
DTSTAMP:20260421T161053Z
DTSTART;VALUE=DATE:20230102
SUMMARY:Gelber Sack
TRANSP:OPAQUE
STATUS:CONFIRMED
END:VEVENT
BEGIN:VEVENT
UID:5675-69e7a18d37d17@gelbersack-stuttgart.de
DTSTAMP:20260421T161053Z
DTSTART;VALUE=DATE:20230123
SUMMARY:Gelber Sack
TRANSP:OPAQUE
STATUS:CONFIRMED
END:VEVENT
BEGIN:VEVENT
UID:5676-69e7a18d37d19@gelbersack-stuttgart.de
DTSTAMP:20260421T161053Z
DTSTART;VALUE=DATE:20230213
SUMMARY:Gelber Sack
TRANSP:OPAQUE
STATUS:CONFIRMED
END:VEVENT
BEGIN:VEVENT
UID:5677-69e7a18d37d1b@gelbersack-stuttgart.de
DTSTAMP:20260421T161053Z
DTSTART;VALUE=DATE:20230306
SUMMARY:Gelber Sack
TRANSP:OPAQUE
STATUS:CONFIRMED
END:VEVENT
BEGIN:VEVENT
UID:5678-69e7a18d37d1d@gelbersack-stuttgart.de
DTSTAMP:20260421T161053Z
DTSTART;VALUE=DATE:20230327
SUMMARY:Gelber Sack
TRANSP:OPAQUE
STATUS:CONFIRMED
END:VEVENT
BEGIN:VEVENT
UID:5679-69e7a18d37d1f@gelbersack-stuttgart.de
DTSTAMP:20260421T161053Z
DTSTART;VALUE=DATE:20230417
SUMMARY:Gelber Sack
TRANSP:OPAQUE
STATUS:CONFIRMED
END:VEVENT
BEGIN:VEVENT
UID:5680-69e7a18d37d20@gelbersack-stuttgart.de
DTSTAMP:20260421T161053Z
DTSTART;VALUE=DATE:20230508
SUMMARY:Gelber Sack
TRANSP:OPAQUE
STATUS:CONFIRMED
END:VEVENT
BEGIN:VEVENT
UID:5681-69e7a18d37d22@gelbersack-stuttgart.de
DTSTAMP:20260421T161053Z
DTSTART;VALUE=DATE:20230530
SUMMARY:Gelber Sack
TRANSP:OPAQUE
STATUS:CONFIRMED
END:VEVENT
BEGIN:VEVENT
UID:5682-69e7a18d37d23@gelbersack-stuttgart.de
DTSTAMP:20260421T161053Z
DTSTART;VALUE=DATE:20230619
SUMMARY:Gelber Sack
TRANSP:OPAQUE
STATUS:CONFIRMED
END:VEVENT
BEGIN:VEVENT
UID:5683-69e7a18d37d25@gelbersack-stuttgart.de
DTSTAMP:20260421T161053Z
DTSTART;VALUE=DATE:20230710
SUMMARY:Gelber Sack
TRANSP:OPAQUE
STATUS:CONFIRMED
END:VEVENT
BEGIN:VEVENT
UID:5684-69e7a18d37d26@gelbersack-stuttgart.de
DTSTAMP:20260421T161053Z
DTSTART;VALUE=DATE:20230731
SUMMARY:Gelber Sack
TRANSP:OPAQUE
STATUS:CONFIRMED
END:VEVENT
BEGIN:VEVENT
UID:5685-69e7a18d37d28@gelbersack-stuttgart.de
DTSTAMP:20260421T161053Z
DTSTART;VALUE=DATE:20230821
SUMMARY:Gelber Sack
TRANSP:OPAQUE
STATUS:CONFIRMED
END:VEVENT
BEGIN:VEVENT
UID:5686-69e7a18d37d2a@gelbersack-stuttgart.de
DTSTAMP:20260421T161053Z
DTSTART;VALUE=DATE:20230911
SUMMARY:Gelber Sack
TRANSP:OPAQUE
STATUS:CONFIRMED
END:VEVENT
BEGIN:VEVENT
UID:5687-69e7a18d37d2b@gelbersack-stuttgart.de
DTSTAMP:20260421T161053Z
DTSTART;VALUE=DATE:20231002
SUMMARY:Gelber Sack
TRANSP:OPAQUE
STATUS:CONFIRMED
END:VEVENT
BEGIN:VEVENT
UID:5688-69e7a18d37d2d@gelbersack-stuttgart.de
DTSTAMP:20260421T161053Z
DTSTART;VALUE=DATE:20231023
SUMMARY:Gelber Sack
TRANSP:OPAQUE
STATUS:CONFIRMED
END:VEVENT
BEGIN:VEVENT
UID:5689-69e7a18d37d2f@gelbersack-stuttgart.de
DTSTAMP:20260421T161053Z
DTSTART;VALUE=DATE:20231113
SUMMARY:Gelber Sack
TRANSP:OPAQUE
STATUS:CONFIRMED
END:VEVENT
BEGIN:VEVENT
UID:5690-69e7a18d37d30@gelbersack-stuttgart.de
DTSTAMP:20260421T161053Z
DTSTART;VALUE=DATE:20231204
SUMMARY:Gelber Sack
TRANSP:OPAQUE
STATUS:CONFIRMED
END:VEVENT
BEGIN:VEVENT
UID:5691-69e7a18d37d32@gelbersack-stuttgart.de
DTSTAMP:20260421T161053Z
DTSTART;VALUE=DATE:20231223
SUMMARY:Gelber Sack
TRANSP:OPAQUE
STATUS:CONFIRMED
END:VEVENT
BEGIN:VEVENT
UID:5692-69e7a18d37d33@gelbersack-stuttgart.de
DTSTAMP:20260421T161053Z
DTSTART;VALUE=DATE:20240115
SUMMARY:Gelber Sack
TRANSP:OPAQUE
STATUS:CONFIRMED
END:VEVENT
BEGIN:VEVENT
UID:13263-69e7a18d37d35@gelbersack-stuttgart.de
DTSTAMP:20260421T161053Z
DTSTART;VALUE=DATE:20240205
SUMMARY:Gelber Sack
TRANSP:OPAQUE
STATUS:CONFIRMED
END:VEVENT
BEGIN:VEVENT
UID:13264-69e7a18d37d36@gelbersack-stuttgart.de
DTSTAMP:20260421T161053Z
DTSTART;VALUE=DATE:20240226
SUMMARY:Gelber Sack
TRANSP:OPAQUE
STATUS:CONFIRMED
END:VEVENT
BEGIN:VEVENT
UID:13265-69e7a18d37d37@gelbersack-stuttgart.de
DTSTAMP:20260421T161053Z
DTSTART;VALUE=DATE:20240318
SUMMARY:Gelber Sack
TRANSP:OPAQUE
STATUS:CONFIRMED
END:VEVENT
BEGIN:VEVENT
UID:13266-69e7a18d37d39@gelbersack-stuttgart.de
DTSTAMP:20260421T161053Z
DTSTART;VALUE=DATE:20240408
SUMMARY:Gelber Sack
TRANSP:OPAQUE
STATUS:CONFIRMED
END:VEVENT
BEGIN:VEVENT
UID:13267-69e7a18d37d3a@gelbersack-stuttgart.de
DTSTAMP:20260421T161053Z
DTSTART;VALUE=DATE:20240429
SUMMARY:Gelber Sack
TRANSP:OPAQUE
STATUS:CONFIRMED
END:VEVENT
BEGIN:VEVENT
UID:13268-69e7a18d37d3c@gelbersack-stuttgart.de
DTSTAMP:20260421T161053Z
DTSTART;VALUE=DATE:20240521
SUMMARY:Gelber Sack
TRANSP:OPAQUE
STATUS:CONFIRMED
END:VEVENT
BEGIN:VEVENT
UID:13269-69e7a18d37d3d@gelbersack-stuttgart.de
DTSTAMP:20260421T161053Z
DTSTART;VALUE=DATE:20240610
SUMMARY:Gelber Sack
TRANSP:OPAQUE
STATUS:CONFIRMED
END:VEVENT
BEGIN:VEVENT
UID:13270-69e7a18d37d3f@gelbersack-stuttgart.de
DTSTAMP:20260421T161053Z
DTSTART;VALUE=DATE:20240701
SUMMARY:Gelber Sack
TRANSP:OPAQUE
STATUS:CONFIRMED
END:VEVENT
BEGIN:VEVENT
UID:13271-69e7a18d37d40@gelbersack-stuttgart.de
DTSTAMP:20260421T161053Z
DTSTART;VALUE=DATE:20240722
SUMMARY:Gelber Sack
TRANSP:OPAQUE
STATUS:CONFIRMED
END:VEVENT
BEGIN:VEVENT
UID:13272-69e7a18d37d42@gelbersack-stuttgart.de
DTSTAMP:20260421T161053Z
DTSTART;VALUE=DATE:20240812
SUMMARY:Gelber Sack
TRANSP:OPAQUE
STATUS:CONFIRMED
END:VEVENT
BEGIN:VEVENT
UID:13273-69e7a18d37d43@gelbersack-stuttgart.de
DTSTAMP:20260421T161053Z
DTSTART;VALUE=DATE:20240902
SUMMARY:Gelber Sack
TRANSP:OPAQUE
STATUS:CONFIRMED
END:VEVENT
BEGIN:VEVENT
UID:13274-69e7a18d37d45@gelbersack-stuttgart.de
DTSTAMP:20260421T161053Z
DTSTART;VALUE=DATE:20240923
SUMMARY:Gelber Sack
TRANSP:OPAQUE
STATUS:CONFIRMED
END:VEVENT
BEGIN:VEVENT
UID:13275-69e7a18d37d46@gelbersack-stuttgart.de
DTSTAMP:20260421T161053Z
DTSTART;VALUE=DATE:20241014
SUMMARY:Gelber Sack
TRANSP:OPAQUE
STATUS:CONFIRMED
END:VEVENT
BEGIN:VEVENT
UID:13276-69e7a18d37d48@gelbersack-stuttgart.de
DTSTAMP:20260421T161053Z
DTSTART;VALUE=DATE:20241104
SUMMARY:Gelber Sack
TRANSP:OPAQUE
STATUS:CONFIRMED
END:VEVENT
BEGIN:VEVENT
UID:13277-69e7a18d37d49@gelbersack-stuttgart.de
DTSTAMP:20260421T161053Z
DTSTART;VALUE=DATE:20241125
SUMMARY:Gelber Sack
TRANSP:OPAQUE
STATUS:CONFIRMED
END:VEVENT
BEGIN:VEVENT
UID:13278-69e7a18d37d4b@gelbersack-stuttgart.de
DTSTAMP:20260421T161053Z
DTSTART;VALUE=DATE:20241216
SUMMARY:Gelber Sack
TRANSP:OPAQUE
STATUS:CONFIRMED
END:VEVENT
BEGIN:VEVENT
UID:13279-69e7a18d37d4c@gelbersack-stuttgart.de
DTSTAMP:20260421T161053Z
DTSTART;VALUE=DATE:20250108
SUMMARY:Gelber Sack
TRANSP:OPAQUE
STATUS:CONFIRMED
END:VEVENT
BEGIN:VEVENT
UID:13280-69e7a18d37d4d@gelbersack-stuttgart.de
DTSTAMP:20260421T161053Z
DTSTART;VALUE=DATE:20250127
SUMMARY:Gelber Sack
TRANSP:OPAQUE
STATUS:CONFIRMED
END:VEVENT
BEGIN:VEVENT
UID:15908-69e7a18d37d4f@gelbersack-stuttgart.de
DTSTAMP:20260421T161053Z
DTSTART;VALUE=DATE:20250217
SUMMARY:Gelber Sack
TRANSP:OPAQUE
STATUS:CONFIRMED
END:VEVENT
BEGIN:VEVENT
UID:15909-69e7a18d37d50@gelbersack-stuttgart.de
DTSTAMP:20260421T161053Z
DTSTART;VALUE=DATE:20250310
SUMMARY:Gelber Sack
TRANSP:OPAQUE
STATUS:CONFIRMED
END:VEVENT
BEGIN:VEVENT
UID:15910-69e7a18d37d52@gelbersack-stuttgart.de
DTSTAMP:20260421T161053Z
DTSTART;VALUE=DATE:20250331
SUMMARY:Gelber Sack
TRANSP:OPAQUE
STATUS:CONFIRMED
END:VEVENT
BEGIN:VEVENT
UID:15911-69e7a18d37d54@gelbersack-stuttgart.de
DTSTAMP:20260421T161053Z
DTSTART;VALUE=DATE:20250422
SUMMARY:Gelber Sack
TRANSP:OPAQUE
STATUS:CONFIRMED
END:VEVENT
BEGIN:VEVENT
UID:15912-69e7a18d37d55@gelbersack-stuttgart.de
DTSTAMP:20260421T161053Z
DTSTART;VALUE=DATE:20250512
SUMMARY:Gelber Sack
TRANSP:OPAQUE
STATUS:CONFIRMED
END:VEVENT
BEGIN:VEVENT
UID:15913-69e7a18d37d56@gelbersack-stuttgart.de
DTSTAMP:20260421T161053Z
DTSTART;VALUE=DATE:20250602
SUMMARY:Gelber Sack
TRANSP:OPAQUE
STATUS:CONFIRMED
END:VEVENT
BEGIN:VEVENT
UID:15914-69e7a18d37d58@gelbersack-stuttgart.de
DTSTAMP:20260421T161053Z
DTSTART;VALUE=DATE:20250623
SUMMARY:Gelber Sack
TRANSP:OPAQUE
STATUS:CONFIRMED
END:VEVENT
BEGIN:VEVENT
UID:15915-69e7a18d37d59@gelbersack-stuttgart.de
DTSTAMP:20260421T161053Z
DTSTART;VALUE=DATE:20250714
SUMMARY:Gelber Sack
TRANSP:OPAQUE
STATUS:CONFIRMED
END:VEVENT
BEGIN:VEVENT
UID:15916-69e7a18d37d5b@gelbersack-stuttgart.de
DTSTAMP:20260421T161053Z
DTSTART;VALUE=DATE:20250804
SUMMARY:Gelber Sack
TRANSP:OPAQUE
STATUS:CONFIRMED
END:VEVENT
BEGIN:VEVENT
UID:15917-69e7a18d37d5c@gelbersack-stuttgart.de
DTSTAMP:20260421T161053Z
DTSTART;VALUE=DATE:20250825
SUMMARY:Gelber Sack
TRANSP:OPAQUE
STATUS:CONFIRMED
END:VEVENT
BEGIN:VEVENT
UID:15918-69e7a18d37d5d@gelbersack-stuttgart.de
DTSTAMP:20260421T161053Z
DTSTART;VALUE=DATE:20250915
SUMMARY:Gelber Sack
TRANSP:OPAQUE
STATUS:CONFIRMED
END:VEVENT
BEGIN:VEVENT
UID:15919-69e7a18d37d5f@gelbersack-stuttgart.de
DTSTAMP:20260421T161053Z
DTSTART;VALUE=DATE:20251006
SUMMARY:Gelber Sack
TRANSP:OPAQUE
STATUS:CONFIRMED
END:VEVENT
BEGIN:VEVENT
UID:15920-69e7a18d37d60@gelbersack-stuttgart.de
DTSTAMP:20260421T161053Z
DTSTART;VALUE=DATE:20251027
SUMMARY:Gelber Sack
TRANSP:OPAQUE
STATUS:CONFIRMED
END:VEVENT
BEGIN:VEVENT
UID:15921-69e7a18d37d62@gelbersack-stuttgart.de
DTSTAMP:20260421T161053Z
DTSTART;VALUE=DATE:20251117
SUMMARY:Gelber Sack
TRANSP:OPAQUE
STATUS:CONFIRMED
END:VEVENT
BEGIN:VEVENT
UID:15922-69e7a18d37d64@gelbersack-stuttgart.de
DTSTAMP:20260421T161053Z
DTSTART;VALUE=DATE:20251208
SUMMARY:Gelber Sack
TRANSP:OPAQUE
STATUS:CONFIRMED
END:VEVENT
BEGIN:VEVENT
UID:15923-69e7a18d37d65@gelbersack-stuttgart.de
DTSTAMP:20260421T161053Z
DTSTART;VALUE=DATE:20251229
SUMMARY:Gelber Sack
TRANSP:OPAQUE
STATUS:CONFIRMED
END:VEVENT
BEGIN:VEVENT
UID:15924-69e7a18d37d66@gelbersack-stuttgart.de
DTSTAMP:20260421T161053Z
DTSTART;VALUE=DATE:20260119
SUMMARY:Gelber Sack
TRANSP:OPAQUE
STATUS:CONFIRMED
END:VEVENT
BEGIN:VEVENT
UID:18581-69e7a18d37d68@gelbersack-stuttgart.de
DTSTAMP:20260421T161053Z
DTSTART;VALUE=DATE:20260209
SUMMARY:Gelber Sack
TRANSP:OPAQUE
STATUS:CONFIRMED
END:VEVENT
BEGIN:VEVENT
UID:18582-69e7a18d37d69@gelbersack-stuttgart.de
DTSTAMP:20260421T161053Z
DTSTART;VALUE=DATE:20260302
SUMMARY:Gelber Sack
TRANSP:OPAQUE
STATUS:CONFIRMED
END:VEVENT
BEGIN:VEVENT
UID:18583-69e7a18d37d6b@gelbersack-stuttgart.de
DTSTAMP:20260421T161053Z
DTSTART;VALUE=DATE:20260323
SUMMARY:Gelber Sack
TRANSP:OPAQUE
STATUS:CONFIRMED
END:VEVENT
BEGIN:VEVENT
UID:18584-69e7a18d37d6c@gelbersack-stuttgart.de
DTSTAMP:20260421T161053Z
DTSTART;VALUE=DATE:20260414
SUMMARY:Gelber Sack
TRANSP:OPAQUE
STATUS:CONFIRMED
END:VEVENT
BEGIN:VEVENT
UID:18585-69e7a18d37d6e@gelbersack-stuttgart.de
DTSTAMP:20260421T161053Z
DTSTART;VALUE=DATE:20260505
SUMMARY:Gelber Sack
TRANSP:OPAQUE
STATUS:CONFIRMED
END:VEVENT
BEGIN:VEVENT
UID:18586-69e7a18d37d6f@gelbersack-stuttgart.de
DTSTAMP:20260421T161053Z
DTSTART;VALUE=DATE:20260526
SUMMARY:Gelber Sack
TRANSP:OPAQUE
STATUS:CONFIRMED
END:VEVENT
BEGIN:VEVENT
UID:18587-69e7a18d37d71@gelbersack-stuttgart.de
DTSTAMP:20260421T161053Z
DTSTART;VALUE=DATE:20260615
SUMMARY:Gelber Sack
TRANSP:OPAQUE
STATUS:CONFIRMED
END:VEVENT
BEGIN:VEVENT
UID:18588-69e7a18d37d72@gelbersack-stuttgart.de
DTSTAMP:20260421T161053Z
DTSTART;VALUE=DATE:20260706
SUMMARY:Gelber Sack
TRANSP:OPAQUE
STATUS:CONFIRMED
END:VEVENT
BEGIN:VEVENT
UID:18589-69e7a18d37d74@gelbersack-stuttgart.de
DTSTAMP:20260421T161053Z
DTSTART;VALUE=DATE:20260727
SUMMARY:Gelber Sack
TRANSP:OPAQUE
STATUS:CONFIRMED
END:VEVENT
BEGIN:VEVENT
UID:18590-69e7a18d37d75@gelbersack-stuttgart.de
DTSTAMP:20260421T161053Z
DTSTART;VALUE=DATE:20260817
SUMMARY:Gelber Sack
TRANSP:OPAQUE
STATUS:CONFIRMED
END:VEVENT
BEGIN:VEVENT
UID:18591-69e7a18d37d77@gelbersack-stuttgart.de
DTSTAMP:20260421T161053Z
DTSTART;VALUE=DATE:20260907
SUMMARY:Gelber Sack
TRANSP:OPAQUE
STATUS:CONFIRMED
END:VEVENT
BEGIN:VEVENT
UID:18592-69e7a18d37d78@gelbersack-stuttgart.de
DTSTAMP:20260421T161053Z
DTSTART;VALUE=DATE:20260928
SUMMARY:Gelber Sack
TRANSP:OPAQUE
STATUS:CONFIRMED
END:VEVENT
BEGIN:VEVENT
UID:18593-69e7a18d37d7a@gelbersack-stuttgart.de
DTSTAMP:20260421T161053Z
DTSTART;VALUE=DATE:20261019
SUMMARY:Gelber Sack
TRANSP:OPAQUE
STATUS:CONFIRMED
END:VEVENT
BEGIN:VEVENT
UID:18594-69e7a18d37d7b@gelbersack-stuttgart.de
DTSTAMP:20260421T161053Z
DTSTART;VALUE=DATE:20261109
SUMMARY:Gelber Sack
TRANSP:OPAQUE
STATUS:CONFIRMED
END:VEVENT
BEGIN:VEVENT
UID:18595-69e7a18d37d7d@gelbersack-stuttgart.de
DTSTAMP:20260421T161053Z
DTSTART;VALUE=DATE:20261130
SUMMARY:Gelber Sack
TRANSP:OPAQUE
STATUS:CONFIRMED
END:VEVENT
BEGIN:VEVENT
UID:18596-69e7a18d37d7e@gelbersack-stuttgart.de
DTSTAMP:20260421T161053Z
DTSTART;VALUE=DATE:20261221
SUMMARY:Gelber Sack
TRANSP:OPAQUE
STATUS:CONFIRMED
END:VEVENT
BEGIN:VEVENT
UID:18597-69e7a18d37d80@gelbersack-stuttgart.de
DTSTAMP:20260421T161053Z
DTSTART;VALUE=DATE:20270112
SUMMARY:Gelber Sack
TRANSP:OPAQUE
STATUS:CONFIRMED
END:VEVENT
END:VCALENDAR